BEGIN:VCALENDAR
VERSION:2.0
PRODID:-//Annapolis Dragon Boat Club - ECPv6.15.18//NONSGML v1.0//EN
CALSCALE:GREGORIAN
METHOD:PUBLISH
X-ORIGINAL-URL:https://annapolisdragonboatclub.org
X-WR-CALDESC:Events for Annapolis Dragon Boat Club
REFRESH-INTERVAL;VALUE=DURATION:PT1H
X-Robots-Tag:noindex
X-PUBLISHED-TTL:PT1H
BEGIN:VTIMEZONE
TZID:America/New_York
BEGIN:DAYLIGHT
TZOFFSETFROM:-0500
TZOFFSETTO:-0400
TZNAME:EDT
DTSTART:20210314T070000
END:DAYLIGHT
BEGIN:STANDARD
TZOFFSETFROM:-0400
TZOFFSETTO:-0500
TZNAME:EST
DTSTART:20211107T060000
END:STANDARD
BEGIN:DAYLIGHT
TZOFFSETFROM:-0500
TZOFFSETTO:-0400
TZNAME:EDT
DTSTART:20220313T070000
END:DAYLIGHT
BEGIN:STANDARD
TZOFFSETFROM:-0400
TZOFFSETTO:-0500
TZNAME:EST
DTSTART:20221106T060000
END:STANDARD
BEGIN:DAYLIGHT
TZOFFSETFROM:-0500
TZOFFSETTO:-0400
TZNAME:EDT
DTSTART:20230312T070000
END:DAYLIGHT
BEGIN:STANDARD
TZOFFSETFROM:-0400
TZOFFSETTO:-0500
TZNAME:EST
DTSTART:20231105T060000
END:STANDARD
BEGIN:DAYLIGHT
TZOFFSETFROM:-0500
TZOFFSETTO:-0400
TZNAME:EDT
DTSTART:20240310T070000
END:DAYLIGHT
BEGIN:STANDARD
TZOFFSETFROM:-0400
TZOFFSETTO:-0500
TZNAME:EST
DTSTART:20241103T060000
END:STANDARD
BEGIN:DAYLIGHT
TZOFFSETFROM:-0500
TZOFFSETTO:-0400
TZNAME:EDT
DTSTART:20250309T070000
END:DAYLIGHT
BEGIN:STANDARD
TZOFFSETFROM:-0400
TZOFFSETTO:-0500
TZNAME:EST
DTSTART:20251102T060000
END:STANDARD
BEGIN:DAYLIGHT
TZOFFSETFROM:-0500
TZOFFSETTO:-0400
TZNAME:EDT
DTSTART:20260308T070000
END:DAYLIGHT
BEGIN:STANDARD
TZOFFSETFROM:-0400
TZOFFSETTO:-0500
TZNAME:EST
DTSTART:20261101T060000
END:STANDARD
END:VTIMEZONE
BEGIN:VEVENT
DTSTART;TZID=America/New_York:20251011T120000
DTEND;TZID=America/New_York:20251011T160000
DTSTAMP:20260420T082056
CREATED:20240316T163744Z
LAST-MODIFIED:20251010T155647Z
UID:6848-1760184000-1760198400@annapolisdragonboatclub.org
SUMMARY:2025 Dragonfest celebration
DESCRIPTION:Don’t miss our annual Dragonfest party. The Annapolis and Eastport communities are excited to bring this fun event back for the fourth year. \nVirtual 50/50 ticketsSilent AuctionC’est la vie raffle tickets\nDay-of festivities\nCome to Pier 4 Marina in Eastport on Saturday\, October 11\, to kick off Breast Cancer Awareness Month. The rain date is on Sunday\, October 12. \nEntry is free. \nThe festivities include live music by Rickshaw Lizard\, as well as a raffle\, 50/50 raffle\, silent auction\, and wine pull. We will have special fun activities for the kids. The menu includes BBQ\, oysters\, hot dogs\, keg beer\, water\, and sodas. \nThe Annapolis Dragon Boat Club is a 501(c)(3) nonprofit\, all-volunteer organization that offers exercise and camaraderie to those in our community diagnosed with breast cancer. All proceeds will go directly to furthering our mission of improving the lives of breast cancer survivors and their families and friends. \nPaddling on the beautiful Spa Creek heals our minds and bodies\, and we can’t maintain our boats and cover associated costs without your help. \nPlease support our cause and help make a difference in the lives of those affected by breast cancer. \nEvery bit helps. \n\n\n	\n		Donation\n		\n	\n								\n	\n		\n\n	\n				How much do you want to donate?	\n				\n								\n						\n												$75					\n										\n						\n												$150					\n										\n						\n												$250					\n										\n						\n												$500					\n									\n					\n					Other				\n							\n							\n					\n				\n				\n				\n	\n		\n			Make it recurring for  \n			\n		\n		\n						\n							every\n								every 2nd\n								every 3rd\n								every 4th\n								every 5th\n								every 6th\n							\n									\n				dayweekmonthyear						\n									\n									Do not stop until cancelled\n										1 day\n										2 days\n										3 days\n										4 days\n										5 days\n										6 days\n										7 days\n										8 days\n										9 days\n										10 days\n										11 days\n										12 days\n										13 days\n										14 days\n										15 days\n										16 days\n										17 days\n										18 days\n										19 days\n										20 days\n										21 days\n										22 days\n										23 days\n										24 days\n										25 days\n										26 days\n										27 days\n										28 days\n										29 days\n										30 days\n										31 days\n										32 days\n										33 days\n										34 days\n										35 days\n										36 days\n										37 days\n										38 days\n										39 days\n										40 days\n										41 days\n										42 days\n										43 days\n										44 days\n										45 days\n										46 days\n										47 days\n										48 days\n										49 days\n										50 days\n										51 days\n										52 days\n										53 days\n										54 days\n										55 days\n										56 days\n										57 days\n										58 days\n										59 days\n										60 days\n										61 days\n										62 days\n										63 days\n										64 days\n										65 days\n										66 days\n										67 days\n										68 days\n										69 days\n										70 days\n										71 days\n										72 days\n										73 days\n										74 days\n										75 days\n										76 days\n										77 days\n										78 days\n										79 days\n										80 days\n										81 days\n										82 days\n										83 days\n										84 days\n										85 days\n										86 days\n										87 days\n										88 days\n										89 days\n										90 days\n								\n					\n			\n		\n		Tributes\n		\n								\n							 Is this gift in honor\, memory\, or support of someone?\n						\n								\n			\n						\n		\n	\n	\n		\n\n	\n	\n	Donate\n	\n	\n\n 
URL:https://annapolisdragonboatclub.org/event/2025-dragonfest-celebration/
LOCATION:Pier 4 Marina\, 301 Fourth Street\, Annapolis\, MD\, 21403\, United States
CATEGORIES:Outreach
ATTACH;FMTTYPE=image/png:https://annapolisdragonboatclub.org/wp-content/uploads/2024/03/md-paddle24.ffont1_.png
END:VEVENT
BEGIN:VEVENT
DTSTART;TZID=America/New_York:20231014T120000
DTEND;TZID=America/New_York:20231014T160000
DTSTAMP:20260420T082056
CREATED:20230717T003604Z
LAST-MODIFIED:20231013T220346Z
UID:5708-1697284800-1697299200@annapolisdragonboatclub.org
SUMMARY:2023 Dragonfest raffle and party
DESCRIPTION:Don’t miss our second annual Dragonfest. The festival is on — rain or shine!  \nSilent auction\nThe silent auction is already online. Items include vacation getaways\, hometown relaxation packages\, and more! \nPlace your bid now. Bidding closes at 3:30 p.m. ET on Saturday\, October 14. \nDay-of festivities\nMeet us at Pier 4 Marina in Eastport on Saturday\, October 14\, from 12 p.m. to 4 p.m. ET to kick off Breast Cancer Awareness Month. The rain date is Saturday\, October 21. Entry is free. \nThe festivities include live music\, a ‘mega raffle’ with over 30 valuable items\, a silent auction\, and a wine pull. We’re planning a special fun raffle and face painting for the kids. The menu includes BBQ\, oysters\, hot dogs\, keg beer\, water\, and sodas. The city permits are in hand to close the end of 4th Street in Eastport! \nBuy your raffle tickets and food and drink tickets online today to avoid the lines and save money. When you arrive\, come to the will-call table. We’ll have all of your tickets ready and waiting for you. Online ticket sales end at noon ET on Friday\, October 13. \nFollowing last year’s success and the warm reception from the Annapolis/Eastport community\, we are excited to bring this fun event back for the second year. \nThe Annapolis Dragon Boat Club is a 501(c)(3) nonprofit\, all-volunteer organization offering exercise and camaraderie to those in our community recovering from breast cancer. All proceeds will go directly to furthering our mission of improving the lives of survivors\, their families\, and friends. \nPlease support our cause and help make a difference in the lives of those affected by breast cancer. \nPaddling on the beautiful Spa Creek heals our minds and bodies\, and we can’t maintain our boats and cover associated costs without your help. \nEvery bit helps.
URL:https://annapolisdragonboatclub.org/event/dragonfest-raffle-and-party-2023/
LOCATION:Pier 4 Marina\, 301 Fourth Street\, Annapolis\, MD\, 21403\, United States
CATEGORIES:Outreach
END:VEVENT
BEGIN:VEVENT
DTSTART;TZID=America/New_York:20221009T120000
DTEND;TZID=America/New_York:20221009T150000
DTSTAMP:20260420T082056
CREATED:20220827T194335Z
LAST-MODIFIED:20230717T010753Z
UID:3908-1665316800-1665327600@annapolisdragonboatclub.org
SUMMARY:Dragonfest raffle and party
DESCRIPTION:Don’t miss our inaugural Dragonfest! Meet us at Pier 4 Marina in Eastport on Sunday\, October 9\, from 12 p.m. to 3 p.m. to kick off Breast Cancer Awareness Month. \n \nEnjoy live music by SpaceKrafft\, Forward Brewery’s Dragon Boat beer\, and Hollywood Oysters. \nCost\nThere is no entrance fee to attend Dragonfest. But we appreciate any donations. \nWe also have Dragonfest t-shirts for $25 to $30. \nRaffle and silent auction\nDo you want to win one of the amazing items we’ve rounded up? \nWe’ll raffle off prizes from Route One Apparel\, Annapolis Boat Shows\, Inc.\, Baltimore Coffee and Tea\, Murray’s Cheese\, Dream Yacht Charter\, The National Aquarium\, Back Creek Inn – Solomons\, Anne Arundel Community Concert Association\, and more. \nRaffle tickets are $10 each or 3 for $25. Of course\, the more you buy\, the better your chances of winning! \nRead the Dragonfest 2022 program for the full list of raffle prizes and silent auction items. \nOther fun\nWe’ll also have a $10 cork pull with great bottles of wine up for grabs\, and everyone wins a bottle. Plus\, face painting and a kids-only raffle — both free for children under age 14! \nFood\nCome thirsty and hungry. The menu includes: \n\nDragon Boat Beer $5\nVarietal wines $5\nNon-alcoholic drinks $2\nOysters $1\nBBQ lunch $15\nKid’s hot dog lunch $10\n\nAll prices include sales tax.
URL:https://annapolisdragonboatclub.org/event/dragonfest-raffle-and-party/
LOCATION:Pier 4 Marina\, 301 Fourth Street\, Annapolis\, MD\, 21403\, United States
CATEGORIES:Outreach
ATTACH;FMTTYPE=image/jpeg:https://annapolisdragonboatclub.org/wp-content/uploads/2022/08/dragonfest.jpg
END:VEVENT
END:VCALENDAR